BEGIN:VCALENDAR
VERSION:2.0
PRODID:-//Heavy Grounds - ECPv6.15.17.1//NONSGML v1.0//EN
CALSCALE:GREGORIAN
METHOD:PUBLISH
X-WR-CALNAME:Heavy Grounds
X-ORIGINAL-URL:https://heavy-grounds.com
X-WR-CALDESC:Veranstaltungen für Heavy Grounds
REFRESH-INTERVAL;VALUE=DURATION:PT1H
X-Robots-Tag:noindex
X-PUBLISHED-TTL:PT1H
BEGIN:VTIMEZONE
TZID:Europe/Berlin
BEGIN:DAYLIGHT
TZOFFSETFROM:+0100
TZOFFSETTO:+0200
TZNAME:CEST
DTSTART:20250330T010000
END:DAYLIGHT
BEGIN:STANDARD
TZOFFSETFROM:+0200
TZOFFSETTO:+0100
TZNAME:CET
DTSTART:20251026T010000
END:STANDARD
BEGIN:DAYLIGHT
TZOFFSETFROM:+0100
TZOFFSETTO:+0200
TZNAME:CEST
DTSTART:20260329T010000
END:DAYLIGHT
BEGIN:STANDARD
TZOFFSETFROM:+0200
TZOFFSETTO:+0100
TZNAME:CET
DTSTART:20261025T010000
END:STANDARD
BEGIN:DAYLIGHT
TZOFFSETFROM:+0100
TZOFFSETTO:+0200
TZNAME:CEST
DTSTART:20270328T010000
END:DAYLIGHT
BEGIN:STANDARD
TZOFFSETFROM:+0200
TZOFFSETTO:+0100
TZNAME:CET
DTSTART:20271031T010000
END:STANDARD
END:VTIMEZONE
BEGIN:VEVENT
DTSTART;TZID=Europe/Berlin:20260418T190000
DTEND;TZID=Europe/Berlin:20260418T233000
DTSTAMP:20260420T132151
CREATED:20260108T083241Z
LAST-MODIFIED:20260108T083956Z
UID:2493-1776538800-1776555000@heavy-grounds.com
SUMMARY:Wild Nights - Special!
DESCRIPTION:Einlass 19.00 UhrErste Band 19.30 UhrVVK 9 Euro regulär // 7\,00 Euro Studierende und Azubis (zzgl. Gebühren)AK 12 Euro regulär // 9\,50 Euro Studierende und Azubis (zzgl. Gebühren)Bis 18 wie immer frei! Wenn du den Verein unterstützen möchtest bieten wir dir auch die Möglichkeit\, etwas mehr zu geben\, als nötig. Wir versprechen\, dein Obolus wird dankend angenommen und wir weitere Möglichkeiten des angeschrieen werdens investiert. Auch jetzt schon: Danke. 								\n				\n				\n				\n				\n									Janika lädt ein zur Geburtstagsschlägerei – die Todesfalle ruft! Ja\, ja\, wir wissen es – du bist ganz Tough. Beweis das doch mal. Unsere Booking-Chefin feiert Geburtstag und hat sich ein Line-Up gewünscht\, welches voll einschlägt (im wahrsten Sinne). Na\, traust du dich? Haywire (Hardcore/Beatdown)1% Technik – 99% Gewalt. Jo passt\, braucht ihr mehr Infos? Na okay – euch knüppelts hier so richtig brutal entgegen\, die Deckung muss permanent hochgehalten werden und ihr werdet um euer Überleben hart kämpfen müssen. Es ist Beatdown-Hardcore\, was los?! Gouge (Metallic-Hardcore)Es scheppert gleich ganz gewaltig weiter. Mit metallischem Einschlag und wirklich Mark und Bein erschütternden Shouts drücken euch Gouge einen unverwechselbar heftigen Sound ins Gesicht\, dass es nur so schlackert. Alarm\, Alarm – es fliegen Fäuste\, Füße und Menschen durch die Luft Moral Fever (Heavy Hardcore)Da waren wir ein bisschen schockverliebt\, als wir im Oktober die lieblich harten Klänge von Moral Fever vernahmen. Hier werden Nägel mit Köpfen gemacht und eine Dampframme zum einhämmern verwendet. Es knallt also auch hier an allen Ecken und Enden. So ein wenig Angst um den Stern haben wir ja schon – aber ihr seid ja respektvoll und prügelt nur auf euch ein\, nicht wahr? Viel Glück – werdet ihr dieses Mal wohl wirklich brauchen. KLEINER DISCLAIMER:Was wir nicht möchten ist das Crowdkill von Personen\, die sich nicht aus eigenen Stücken am Pit beteiligen. Read the room und so. Wir möchten bei unseren Shows keine Verletzten oder Personen\, welche frühzeitig gehen\, weil sie sich nicht sicher fühlen wegen einigen\, die es einfach übertreiben in Sachen Härte. Deshalb sagen wir ganz deutlich: Wenn du nur kommst\, um ohne Rücksicht auszuteilen\, bist du bei uns nicht mehr willkommen. Harte Musik – ja. Harter Pit – wenn es angebracht ist. Crowdkill von am Pit Unbeteiligten – nein! 								\n				\n				\n					\n				\n		\n					\n				\n				\n									\n					\n						\n									Tickets
URL:https://heavy-grounds.com/events/wild-nights-special-janikas-birthday-fight/
LOCATION:Stern Aschaffenburg\, Platanenallee 1\, Aschaffenburg\, 63739
ATTACH;FMTTYPE=image/png:https://heavy-grounds.com/wp-content/uploads/2026/01/Website-WN4.png
ORGANIZER;CN="Heavy Grounds e. V.":MAILTO:hello@heavy-grounds.com
END:VEVENT
END:VCALENDAR