BEGIN:VCALENDAR
VERSION:2.0
PRODID:-//Heavy Grounds - ECPv6.15.17.1//NONSGML v1.0//EN
CALSCALE:GREGORIAN
METHOD:PUBLISH
X-WR-CALNAME:Heavy Grounds
X-ORIGINAL-URL:https://heavy-grounds.com
X-WR-CALDESC:Veranstaltungen für Heavy Grounds
REFRESH-INTERVAL;VALUE=DURATION:PT1H
X-Robots-Tag:noindex
X-PUBLISHED-TTL:PT1H
BEGIN:VTIMEZONE
TZID:Europe/Berlin
BEGIN:DAYLIGHT
TZOFFSETFROM:+0100
TZOFFSETTO:+0200
TZNAME:CEST
DTSTART:20250330T010000
END:DAYLIGHT
BEGIN:STANDARD
TZOFFSETFROM:+0200
TZOFFSETTO:+0100
TZNAME:CET
DTSTART:20251026T010000
END:STANDARD
BEGIN:DAYLIGHT
TZOFFSETFROM:+0100
TZOFFSETTO:+0200
TZNAME:CEST
DTSTART:20260329T010000
END:DAYLIGHT
BEGIN:STANDARD
TZOFFSETFROM:+0200
TZOFFSETTO:+0100
TZNAME:CET
DTSTART:20261025T010000
END:STANDARD
BEGIN:DAYLIGHT
TZOFFSETFROM:+0100
TZOFFSETTO:+0200
TZNAME:CEST
DTSTART:20270328T010000
END:DAYLIGHT
BEGIN:STANDARD
TZOFFSETFROM:+0200
TZOFFSETTO:+0100
TZNAME:CET
DTSTART:20271031T010000
END:STANDARD
END:VTIMEZONE
BEGIN:VEVENT
DTSTART;TZID=Europe/Berlin:20260314T113000
DTEND;TZID=Europe/Berlin:20260314T153000
DTSTAMP:20260420T131353
CREATED:20260218T141152Z
LAST-MODIFIED:20260303T054818Z
UID:2551-1773487800-1773502200@heavy-grounds.com
SUMMARY:Screaming Workshop auf dem Fem Fest
DESCRIPTION:AUSGEBUCHT!Du wolltest schon immer mal Shouten lernen? Traust dich aber nicht oder weißt nicht\, wie du anfangen sollst? Vielleicht hast du auch Angst\, dich dabei zu verletzen? Oder vielleicht shoutest du sogar schon seit kurzem\, möchtest aber deine Technik verbessern? We got you!Dieser Workshop ist geeignet für Anfänger:innen und Fortgeschrittene. Wer hat sich nicht schon einmal vorgestellt\, auf der Bühne zu stehen\, Mark- und Beinerschütternd zu screamen und die Menge richtig ausrasten zu lassen? Dann ey – das ist deine Chance! Wir bieten gemeinsam mit unserer grandiosen Dozentin Laura wieder einen Workshop für Anfänger:innen und fortgeschrittene Schreihälse an. Beginn: 11.30 Uhr Ende: 15.30 Uhr Ein Päuschen um das Stimmchen zu ölen wird es natürlich auch geben. 								\n				\n					\n				\n		\n					\n				\n				\n																														\n				\n				\n				\n									Foto by catchingmovement 								\n				\n					\n				\n		\n					\n				\n				\n									Eure Dozentin: Laura ist als Solo-Künstlerin mit ihrem Projekt Lavra unterwegs und Frontfrau von The Tex Avery Syndrome. Sie ist außerdem eine erfahrene Screaming-Trainerin.Ihr habt also die Möglichkeit\, Screaming unter professioneller Aufsicht zu erlernen – ohne Verletzungsgefahr durch falsche Technik.  								\n				\n					\n				\n		\n					\n				\n				\n									Ihr erlernt die Theorie\, habt praktische Übungen und Techniken und Laura geht individuell auf euch und euren Wissensstand ein. Abends erwarten wir dann vollen Einsatz von euch! 💃 Anmelden könnt ihr euch über den folgenden Button – die Plätze sind begrenzt\, also schnell sein! 								\n				\n					\n				\n		\n					\n				\n				\n									\n					\n						\n									Hier anmelden
URL:https://heavy-grounds.com/events/screaming-workshop-auf-dem-fem-fest/
LOCATION:Kulturzentrum Aschaffenburg\, Kirchhofweg 2\, Aschaffenburg\, Bayern\, 63739\, Deutschland
ATTACH;FMTTYPE=image/png:https://heavy-grounds.com/wp-content/uploads/2026/02/Website-Titlebild-Screaming-26.png
ORGANIZER;CN="Heavy Grounds e. V.":MAILTO:hello@heavy-grounds.com
END:VEVENT
END:VCALENDAR