BEGIN:VCALENDAR
VERSION:2.0
PRODID:-//Heavy Grounds - ECPv6.15.17.1//NONSGML v1.0//EN
CALSCALE:GREGORIAN
METHOD:PUBLISH
X-ORIGINAL-URL:https://heavy-grounds.com
X-WR-CALDESC:Veranstaltungen für Heavy Grounds
REFRESH-INTERVAL;VALUE=DURATION:PT1H
X-Robots-Tag:noindex
X-PUBLISHED-TTL:PT1H
BEGIN:VTIMEZONE
TZID:Europe/Berlin
BEGIN:DAYLIGHT
TZOFFSETFROM:+0100
TZOFFSETTO:+0200
TZNAME:CEST
DTSTART:20250330T010000
END:DAYLIGHT
BEGIN:STANDARD
TZOFFSETFROM:+0200
TZOFFSETTO:+0100
TZNAME:CET
DTSTART:20251026T010000
END:STANDARD
BEGIN:DAYLIGHT
TZOFFSETFROM:+0100
TZOFFSETTO:+0200
TZNAME:CEST
DTSTART:20260329T010000
END:DAYLIGHT
BEGIN:STANDARD
TZOFFSETFROM:+0200
TZOFFSETTO:+0100
TZNAME:CET
DTSTART:20261025T010000
END:STANDARD
BEGIN:DAYLIGHT
TZOFFSETFROM:+0100
TZOFFSETTO:+0200
TZNAME:CEST
DTSTART:20270328T010000
END:DAYLIGHT
BEGIN:STANDARD
TZOFFSETFROM:+0200
TZOFFSETTO:+0100
TZNAME:CET
DTSTART:20271031T010000
END:STANDARD
END:VTIMEZONE
BEGIN:VEVENT
DTSTART;TZID=Europe/Berlin:20260214T190000
DTEND;TZID=Europe/Berlin:20260214T233000
DTSTAMP:20260422T114600
CREATED:20260112T111209Z
LAST-MODIFIED:20260112T140509Z
UID:2508-1771095600-1771111800@heavy-grounds.com
SUMMARY:Black Valentine II
DESCRIPTION:Der Pit ruft! Hörst du ihn auch? Erstmals veranstalten wir an unserem Fem Fest am 14.03. einen Pit-Workshop. Dieser Workshop ist für FLINTA only und richtet sich an alle\, die schon immer mal im Pit alles geben wollten\, sich aber nicht getraut haben oder nicht wissen\, wie sie sich bewegen und schützen sollen. Von 15-16 Uhr lernt ihr in einer kleinen Gruppe\, welche Moves wann zum Einsatz kommen\, wie man sich im Pit Raum nimmt\, die Dos and Don’ts der Mosh-Etiquette\, alles rund zum Thema Safety\, also wie man sich und andere schützt\, sowie die Unterschiede von Pit zu Pit. Durch Theorie und Praxis wollen wir euch in diesem Workshop alles an die Hand geben\, damit ihr euch traut\, eure ersten Versuche im Pit zu machen und euch dabei helfen\, euren eigenen Stil beim Moshen zu entwickeln. Denn hier gibt es kein richtig oder falsch: Mosh as you are! Zwei erfahrene Pit-Legenden\, die ihr mit Sicherheit schon auf der ein oder anderen Show bei uns gesehen habt\, werden euch Schritt für Schritt begleiten. Und wer weiß\, vielleicht wirst sogar Du zur nächsten gefürchteten Geheimwaffe des Moshpits! Die Teilnahme am Workshop ist kostenlos und anmelden kannst du dich über den folgenden Button. Schnell sein\, die Plätze sind begrenzt! 								\n				\n				\n				\n									\n					\n						\n									Hier anmelden
URL:https://heavy-grounds.com/events/black-valentine-ii/
LOCATION:Kulturzentrum Aschaffenburg\, Kirchhofweg 2\, Aschaffenburg\, Bayern\, 63739\, Deutschland
ATTACH;FMTTYPE=image/jpeg:https://heavy-grounds.com/wp-content/uploads/2026/01/BlackValentine-Website.jpg
ORGANIZER;CN="Heavy Grounds e. V.":MAILTO:hello@heavy-grounds.com
END:VEVENT
END:VCALENDAR