BEGIN:VCALENDAR
VERSION:2.0
PRODID:-//Heavy Grounds - ECPv6.15.17.1//NONSGML v1.0//EN
CALSCALE:GREGORIAN
METHOD:PUBLISH
X-WR-CALNAME:Heavy Grounds
X-ORIGINAL-URL:https://heavy-grounds.com
X-WR-CALDESC:Veranstaltungen für Heavy Grounds
REFRESH-INTERVAL;VALUE=DURATION:PT1H
X-Robots-Tag:noindex
X-PUBLISHED-TTL:PT1H
BEGIN:VTIMEZONE
TZID:Europe/Berlin
BEGIN:DAYLIGHT
TZOFFSETFROM:+0100
TZOFFSETTO:+0200
TZNAME:CEST
DTSTART:20250330T010000
END:DAYLIGHT
BEGIN:STANDARD
TZOFFSETFROM:+0200
TZOFFSETTO:+0100
TZNAME:CET
DTSTART:20251026T010000
END:STANDARD
BEGIN:DAYLIGHT
TZOFFSETFROM:+0100
TZOFFSETTO:+0200
TZNAME:CEST
DTSTART:20260329T010000
END:DAYLIGHT
BEGIN:STANDARD
TZOFFSETFROM:+0200
TZOFFSETTO:+0100
TZNAME:CET
DTSTART:20261025T010000
END:STANDARD
BEGIN:DAYLIGHT
TZOFFSETFROM:+0100
TZOFFSETTO:+0200
TZNAME:CEST
DTSTART:20270328T010000
END:DAYLIGHT
BEGIN:STANDARD
TZOFFSETFROM:+0200
TZOFFSETTO:+0100
TZNAME:CET
DTSTART:20271031T010000
END:STANDARD
END:VTIMEZONE
BEGIN:VEVENT
DTSTART;VALUE=DATE:20260905
DTEND;VALUE=DATE:20260906
DTSTAMP:20260420T101835
CREATED:20251230T093014Z
LAST-MODIFIED:20260316T140835Z
UID:2477-1788566400-1788652799@heavy-grounds.com
SUMMARY:Heavy Grounds Open Air 2026
DESCRIPTION:Du nennst dich einen Silberrücken? Beweise es! Herzlich Willkommen auf den Heavy Grounds! EINLASS: 14.00 Uhr I BEGINN: 14.30 Uhr Kinder von 0 – einschließlich 12 Jahren haben freien Eintritt.Jugendliche von 13 – einschließlich 18 Jahren können den vergünstigten Eintrittspreis nutzen. 2025 scheinen sich einige selbst zum Silberrücken im Pit gekrönt zu haben. Wollen wir doch mal sehen\, ob das stimmt – den Soundtrack zum Überlebenskampf liefern wir\, die Mosh-Moves kommen von euch. Freut euch auf Heavy Hardcore\, Deathcore und Metalcore – ein härteres Festival wird es in Aschaffenburg nie wieder geben! Line-Up Breakdown of SanityAbbie FallsConsvmerDethroned Backstabbed RecountInner SpaceSwoonNo Turning BackWords Of ConcreteKLEINER DISCLAIMER:Was wir nicht möchten ist das Crowdkill von Personen\, die sich nicht aus eigenen Stücken am Pit beteiligen. Read the room und so. Wir möchten bei unserem Festival keine Verletzten oder Personen\, welche frühzeitig gehen\, weil sie sich nicht sicher fühlen wegen einigen\, die es einfach übertreiben in Sachen Härte. Deshalb sagen wir ganz deutlich: Wenn du nur kommst\, um ohne Rücksicht auszuteilen\, bist du bei uns nicht mehr willkommen. Harte Musik – ja. Harter Pit – wenn es angebracht ist. Crowdkill von am Pit Unbeteiligten – nein! 								\n				\n					\n				\n		\n					\n				\n				\n									\n					\n						\n									tickets
URL:https://heavy-grounds.com/events/heavy-grounds-open-air-2026/
LOCATION:Technische Hochschule Aschaffenburg\, Würzburger Straße 45\, Aschaffenburg\, 63743
ATTACH;FMTTYPE=image/png:https://heavy-grounds.com/wp-content/uploads/2025/12/Website-HGOA26.png
ORGANIZER;CN="Heavy Grounds e. V.":MAILTO:hello@heavy-grounds.com
END:VEVENT
END:VCALENDAR