BEGIN:VCALENDAR
VERSION:2.0
PRODID:-//Heavy Grounds - ECPv6.15.17.1//NONSGML v1.0//EN
CALSCALE:GREGORIAN
METHOD:PUBLISH
X-WR-CALNAME:Heavy Grounds
X-ORIGINAL-URL:https://heavy-grounds.com
X-WR-CALDESC:Veranstaltungen für Heavy Grounds
REFRESH-INTERVAL;VALUE=DURATION:PT1H
X-Robots-Tag:noindex
X-PUBLISHED-TTL:PT1H
BEGIN:VTIMEZONE
TZID:Europe/Berlin
BEGIN:DAYLIGHT
TZOFFSETFROM:+0100
TZOFFSETTO:+0200
TZNAME:CEST
DTSTART:20250330T010000
END:DAYLIGHT
BEGIN:STANDARD
TZOFFSETFROM:+0200
TZOFFSETTO:+0100
TZNAME:CET
DTSTART:20251026T010000
END:STANDARD
BEGIN:DAYLIGHT
TZOFFSETFROM:+0100
TZOFFSETTO:+0200
TZNAME:CEST
DTSTART:20260329T010000
END:DAYLIGHT
BEGIN:STANDARD
TZOFFSETFROM:+0200
TZOFFSETTO:+0100
TZNAME:CET
DTSTART:20261025T010000
END:STANDARD
BEGIN:DAYLIGHT
TZOFFSETFROM:+0100
TZOFFSETTO:+0200
TZNAME:CEST
DTSTART:20270328T010000
END:DAYLIGHT
BEGIN:STANDARD
TZOFFSETFROM:+0200
TZOFFSETTO:+0100
TZNAME:CET
DTSTART:20271031T010000
END:STANDARD
END:VTIMEZONE
BEGIN:VEVENT
DTSTART;TZID=Europe/Berlin:20260321T190000
DTEND;TZID=Europe/Berlin:20260321T233000
DTSTAMP:20260420T114212
CREATED:20251110T103231Z
LAST-MODIFIED:20251127T102237Z
UID:2451-1774119600-1774135800@heavy-grounds.com
SUMMARY:Dagger Threat 𝙗𝙡𝙚𝙚𝙙///𝙧𝙚𝙗𝙤𝙤𝙩 release tour
DESCRIPTION:Einlass 19.00 UhrErste Band 19.30 UhrVVK 16 Euro regulär // 12\,80 Euro Studierende und AzubisAK 22 EuroBis 18 wie immer frei! Wenn du den Verein unterstützen möchtest bieten wir dir auch die Möglichkeit\, etwas mehr zu geben\, als nötig. Wir versprechen\, dein Obolus wird dankend angenommen und wir weitere Möglichkeiten des angeschrieen werdens investiert. Auch jetzt schon: Danke. 								\n				\n					\n				\n		\n					\n				\n				\n									HEAVY GROUNDS presents: DAGGER THREAT – Release Show! DAGGER THREAT sprengen seit 2016 die Grenzen harter Musik – sie verbinden Hardcore mit der rohen Energie des frühen 2000er-Nu Metal. Y2K steckt ihnen im Blut: mechanische Grooves\, glitchige Texturen\, moshgeladene Riffs und eine kompromisslose\, direkte Attitüde. Mit Ihrem neuen Album machen sie dort weiter\, wo sie aufgehört haben: Chaos\, Schmerz\, Wut und Härte. SPECIAL GUESTS: SOULPRISON & DECONVOLUTION KLEINER DISCLAIMER:Was wir nicht möchten ist das Crowdkill von Personen\, die sich nicht aus eigenen Stücken am Pit beteiligen. Read the room und so. Wir möchten bei unseren Shows keine Verletzten oder Personen\, welche frühzeitig gehen\, weil sie sich nicht sicher fühlen wegen einigen\, die es einfach übertreiben in Sachen Härte. Deshalb sagen wir ganz deutlich: Wenn du nur kommst\, um ohne Rücksicht auszuteilen\, bist du bei uns nicht mehr willkommen. Harte Musik – ja. Harter Pit – wenn es angebracht ist. Crowdkill von am Pit Unbeteiligten – nein! 								\n				\n					\n				\n		\n					\n				\n				\n									\n					\n						\n									Tickets
URL:https://heavy-grounds.com/events/dagger-threat-%f0%9d%99%97%f0%9d%99%a1%f0%9d%99%9a%f0%9d%99%9a%f0%9d%99%99-%f0%9d%99%a7%f0%9d%99%9a%f0%9d%99%97%f0%9d%99%a4%f0%9d%99%a4%f0%9d%99%a9-release-tour/
LOCATION:Kulturzentrum Aschaffenburg\, Kirchhofweg 2\, Aschaffenburg\, Bayern\, 63739\, Deutschland
ATTACH;FMTTYPE=image/png:https://heavy-grounds.com/wp-content/uploads/2025/11/DT-Titelbild_Website-fin2.png
ORGANIZER;CN="Heavy Grounds e. V.":MAILTO:hello@heavy-grounds.com
END:VEVENT
END:VCALENDAR